BEGIN:VCALENDAR
VERSION:2.0
PRODID:-//Tukios.com/
BEGIN:VEVENT
UID:dd6d4efa-ba80-468c-88ce-cfa2c7f21892@www.cahallfuneralhomes.com
DTSTAMP:20260423T081640Z
DTSTART:20260418T170000Z
DTEND:20260418T180000Z
SUMMARY:Funeral Service
DESCRIPTION:
URL:https://www.cahallfuneralhomes.com/obituaries/ada-winterod
LOCATION:Cahall Funeral Home 204 West State Street  Georgetown OH 45121
GEO:38.8649077;-83.9058894
END:VEVENT
END:VCALENDAR