BEGIN:VCALENDAR
VERSION:2.0
PRODID:-//Tukios.com/
BEGIN:VEVENT
UID:1c095445-03c6-492a-9a07-9682c3a47024@www.cahallfuneralhomes.com
DTSTAMP:20260423T210001Z
DTSTART:20260426T220000Z
DTEND:20260427T000000Z
SUMMARY:Visitation
DESCRIPTION:
URL:https://www.cahallfuneralhomes.com/obituaries/cecil-black
LOCATION: 1011 South 2nd Street  Ripley OH 45167
GEO:38.7305071;-83.8368468
END:VEVENT
END:VCALENDAR