BEGIN:VCALENDAR
VERSION:2.0
PRODID:-//Tukios.com/
BEGIN:VEVENT
UID:7acf6168-6246-45d5-b2ed-bc3192f880e8@www.cahallfuneralhomes.com
DTSTAMP:20260423T205946Z
DTSTART:20260427T150000Z
DTEND:20260427T160000Z
SUMMARY:Funeral Service
DESCRIPTION:
URL:https://www.cahallfuneralhomes.com/obituaries/cecil-black
LOCATION: 110 North Second Street  Ripley OH 45167
GEO:38.7473679;-83.8459918
END:VEVENT
END:VCALENDAR